Workbook

Sheet Summary
A1: =C3-SUM(C7:C8) -> 0
B2: S/B in QUICKBOOKS | E2: WAGES | F2: TAXES | H2: EFTPS | J2: =SUM(J3:L3) -> 2977 | K2: TOTAL | M2: =SUM(H3:M3) -> 3466.25
B3: Wages | C3: =SUM(Data!D2:D629) -> 15000 | H3: =SUM(Data!I2:I629)-SUM($H$5:$H$17) -> 167.25 | I3: =SUM(Data!F2:F629)-SUM(I5:I17) -> 280 | J3: =SUM(Data!J2:J629)-SUM(J5:J17) -> 1860 | K3: =SUM(Data!K2:K629)-SUM(K5:K17) -> 435 | L3: =SUM(Data!E2:E629)-SUM(L5:L17) -> 682 | M3: =SUM(Data!H2:H629)-SUM(M5:M17) -> 42
B4: Taxes | C4: =SUM(Data!L2:L629) -> 1356.75 | E4: 45672 | H4: CO UI | I4: S. W/H | J4: SS | K4: MED | L4: F. W/H | M4: FUTA
E5: =SUMIFS(Data!$D$2:$D$629, Data!$C$2:$C$629, ">=1/01/2025", Data!$C$2:$C$629, "<=1/31/2025") -> 0 | F5: =SUMIFS(Data!$L$2:$L$629, Data!$C$2:$C$629, ">=1/01/2025", Data!$C$2:$C$629, "<=1/31/2025") -> 0 | G5: JAN
B6: EMPLOYEE WAGES | E6: =SUMIFS(Data!$D$2:$D$629, Data!$C$2:$C$629, ">=2/01/2025", Data!$C$2:$C$629, "<=2/28/2025") -> 0 | F6: =SUMIFS(Data!$L$2:$L$629, Data!$C$2:$C$629, ">=2/01/2025", Data!$C$2:$C$629, "<=2/28/2025") -> 0 | G6: FEB
B7: Employee | C7: =SUMIF(Data!$B$2:$B$629,B7,Data!$D$2) -> 15000 | E7: =SUMIFS(Data!$D$2:$D$629, Data!$C$2:$C$629, ">=3/01/2026", Data!$C$2:$C$629, "<=3/31/2026") -> 7500 | F7: =SUMIFS(Data!$L$2:$L$629, Data!$C$2:$C$629, ">=3/01/2026", Data!$C$2:$C$629, "<=3/31/2026") -> 699.375 | G7: MAR
C8: =SUMIF(Data!$B$2:$B$629,B8,Data!$D$2) -> 0 | E8: =SUMIFS(Data!$D$2:$D$629, Data!$C$2:$C$629, ">=4/01/2025", Data!$C$2:$C$629, "<=4/30/2025") -> 0 | F8: =SUMIFS(Data!$L$2:$L629, Data!$C$2:$C$629, ">=4/01/2025", Data!$C$2:$C$629, "<=4/30/2025") -> 0 | G8: APR
E9: =SUMIFS(Data!$D$2:$D$629, Data!$C$2:$C$629, ">=5/01/2025", Data!$C$2:$C$629, "<=5/31/2025") -> 0 | F9: =SUMIFS(Data!$L$2:$L$629, Data!$C$2:$C$629, ">=5/01/2025", Data!$C$2:$C$629, "<=5/31/2025") -> 0 | G9: MAY | Q9: 46174 | R9: 46203
E10: =SUMIFS(Data!$D$2:$D$629, Data!$C$2:$C$629, ">=Q9", Data!$C$2:$C$629, "<=R9") -> 0 | F10: =SUMIFS(Data!$L$2:$L$629, Data!$C$2:$C$629, ">=Q9", Data!$C$2:$C$629, "<=R9") -> 0 | G10: JUN
E11: =SUMIFS(Data!$D$2:$D$629, Data!$C$2:$C$629, ">=7/01/2025", Data!$C$2:$C$629, "<=7/31/2025") -> 0 | F11: =SUMIFS(Data!$L$2:$L$629, Data!$C$2:$C$629, ">=7/01/2025", Data!$C$2:$C$629, "<=7/31/2025") -> 0 | G11: JUL
E12: =SUMIFS(Data!$D$2:$D$629, Data!$C$2:$C$629, ">=8/01/2025", Data!$C$2:$C$629, "<=8/31/2025") -> 0 | F12: =SUMIFS(Data!$L$2:$L$629, Data!$C$2:$C$629, ">=8/01/2025", Data!$C$2:$C$629, "<=8/31/2025") -> 0 | G12: AUG
E13: =SUMIFS(Data!$D$2:$D$629, Data!$C$2:$C$629, ">=9/01/2025", Data!$C$2:$C$629, "<=9/30/2025") -> 0 | F13: =SUMIFS(Data!$L$2:$L$629, Data!$C$2:$C$629, ">=9/01/2025", Data!$C$2:$C$629, "<=9/30/2025") -> 0 | G13: SEP
E14: =SUMIFS(Data!$D$2:$D$629, Data!$C$2:$C$629, ">=10/01/2025", Data!$C$2:$C$629, "<=10/31/2025") -> 0 | F14: =SUMIFS(Data!$L$2:$L$629, Data!$C$2:$C$629, ">=10/01/2025", Data!$C$2:$C$629, "<=10/31/2025") -> 0 | G14: OCT
E15: =SUMIFS(Data!$D$2:$D$629, Data!$C$2:$C$629, ">=11/01/2025", Data!$C$2:$C$629, "<=11/30/2025") -> 0 | F15: =SUMIFS(Data!$L$2:$L$629, Data!$C$2:$C$629, ">=11/01/2025", Data!$C$2:$C$629, "<=11/30/2025") -> 0 | G15: NOV
E16: =SUMIFS(Data!$D$2:$D$629, Data!$C$2:$C$629, ">=12/01/2025", Data!$C$2:$C$629, "<=12/31/2025") -> 0 | F16: =SUMIFS(Data!$L$2:$L$629, Data!$C$2:$C$629, ">=12/01/2025", Data!$C$2:$C$629, "<=12/31/2025") -> 0 | G16: DEC

Sheet Data
B1: NAME | C1: DATE | D1: WAGES | E1: FED W/H | F1: CO W/H | G1: NET PAY | H1: FUTA | I1: CO U/I | J1: SS | K1: MED | L1: TAX | M1: LIAB
B2: Employee | C2: 46112 | D2: 7500 | G2: =D2-E2-F2-((K2+J2)/2) -> 6926.25 | H2: =MIN(D2, MAX(D2 - (SUMIF($B$2:B2,B2,$D$2:D2)-7000),0))*0.006 -> 42 | I2: =MIN(D2, MAX(D2 - (SUMIF($B$2:B2,B2,$D$2:D2)-30600),0))*0.01115 -> 83.625 | J2: =0.124*D2 -> 930 | K2: =(D2*0.029) -> 217.5 | L2: =H2+I2+((K2+J2)/2) -> 699.375 | M2: =E2+F2+G2+H2+I2+J2+K2 -> 8199.375
B3: Employee | C3: 46203 | D3: 7500 | E3: 682 | F3: 280 | G3: =D3-E3-F3-((K3+J3)/2) -> 5964.25 | H3: =MIN(D3, MAX(D3 - (SUMIF($B$2:B3,B3,$D$2:D3)-7000),0))*0.006 -> 0 | I3: =MIN(D3, MAX(D3 - (SUMIF($B$2:B3,B3,$D$2:D3)-30600),0))*0.01115 -> 83.625 | J3: =0.124*D3 -> 930 | K3: =(D3*0.029) -> 217.5 | L3: =H3+I3+((K3+J3)/2) -> 657.375 | M3: =E3+F3+G3+H3+I3+J3+K3 -> 8157.375
J4: =0.124*D4 -> 0 | K4: =(D4*0.029) -> 0 | L4: =H4+I4+((K4+J4)/2) -> 0 | M4: =E4+F4+G4+H4+I4+J4+K4 -> 0
J5: =0.124*D5 -> 0 | K5: =(D5*0.029) -> 0 | L5: =H5+I5+((K5+J5)/2) -> 0 | M5: =E5+F5+G5+H5+I5+J5+K5 -> 0
J6: =0.124*D6 -> 0 | K6: =(D6*0.029) -> 0 | L6: =H6+I6+((K6+J6)/2) -> 0 | M6: =E6+F6+G6+H6+I6+J6+K6 -> 0
J7: =0.124*D7 -> 0 | K7: =(D7*0.029) -> 0 | L7: =H7+I7+((K7+J7)/2) -> 0 | M7: =E7+F7+G7+H7+I7+J7+K7 -> 0
J8: =0.124*D8 -> 0 | K8: =(D8*0.029) -> 0 | L8: =H8+I8+((K8+J8)/2) -> 0 | M8: =E8+F8+G8+H8+I8+J8+K8 -> 0
J9: =0.124*D9 -> 0 | K9: =(D9*0.029) -> 0 | L9: =H9+I9+((K9+J9)/2) -> 0 | M9: =E9+F9+G9+H9+I9+J9+K9 -> 0
J10: =0.124*D10 -> 0 | K10: =(D10*0.029) -> 0 | L10: =H10+I10+((K10+J10)/2) -> 0 | M10: =E10+F10+G10+H10+I10+J10+K10 -> 0
J11: =0.124*D11 -> 0 | K11: =(D11*0.029) -> 0 | L11: =H11+I11+((K11+J11)/2) -> 0 | M11: =E11+F11+G11+H11+I11+J11+K11 -> 0
J12: =0.124*D12 -> 0 | K12: =(D12*0.029) -> 0 | L12: =H12+I12+((K12+J12)/2) -> 0 | M12: =E12+F12+G12+H12+I12+J12+K12 -> 0
J13: =0.124*D13 -> 0 | K13: =(D13*0.029) -> 0 | L13: =H13+I13+((K13+J13)/2) -> 0 | M13: =E13+F13+G13+H13+I13+J13+K13 -> 0
J14: =0.124*D14 -> 0 | K14: =(D14*0.029) -> 0 | L14: =H14+I14+((K14+J14)/2) -> 0 | M14: =E14+F14+G14+H14+I14+J14+K14 -> 0
J15: =0.124*D15 -> 0 | K15: =(D15*0.029) -> 0 | L15: =H15+I15+((K15+J15)/2) -> 0 | M15: =E15+F15+G15+H15+I15+J15+K15 -> 0
J16: =0.124*D16 -> 0 | K16: =(D16*0.029) -> 0 | L16: =H16+I16+((K16+J16)/2) -> 0 | M16: =E16+F16+G16+H16+I16+J16+K16 -> 0
